BEGIN:VCALENDAR
VERSION:2.0
PRODID:-//E3-Magazin - ECPv6.15.17.1//NONSGML v1.0//EN
CALSCALE:GREGORIAN
METHOD:PUBLISH
X-ORIGINAL-URL:https://e3mag.com/de
X-WR-CALDESC:Veranstaltungen für E3-Magazin
REFRESH-INTERVAL;VALUE=DURATION:PT1H
X-Robots-Tag:noindex
X-PUBLISHED-TTL:PT1H
BEGIN:VTIMEZONE
TZID:Europe/Berlin
BEGIN:DAYLIGHT
TZOFFSETFROM:+0100
TZOFFSETTO:+0200
TZNAME:CEST
DTSTART:20250330T010000
END:DAYLIGHT
BEGIN:STANDARD
TZOFFSETFROM:+0200
TZOFFSETTO:+0100
TZNAME:CET
DTSTART:20251026T010000
END:STANDARD
BEGIN:DAYLIGHT
TZOFFSETFROM:+0100
TZOFFSETTO:+0200
TZNAME:CEST
DTSTART:20260329T010000
END:DAYLIGHT
BEGIN:STANDARD
TZOFFSETFROM:+0200
TZOFFSETTO:+0100
TZNAME:CET
DTSTART:20261025T010000
END:STANDARD
BEGIN:DAYLIGHT
TZOFFSETFROM:+0100
TZOFFSETTO:+0200
TZNAME:CEST
DTSTART:20270328T010000
END:DAYLIGHT
BEGIN:STANDARD
TZOFFSETFROM:+0200
TZOFFSETTO:+0100
TZNAME:CET
DTSTART:20271031T010000
END:STANDARD
END:VTIMEZONE
BEGIN:VEVENT
DTSTART;TZID=Europe/Berlin:20261001T090000
DTEND;TZID=Europe/Berlin:20261001T170000
DTSTAMP:20260423T053624
CREATED:20260319T102855Z
LAST-MODIFIED:20260319T102855Z
UID:161925-1790845200-1790874000@e3mag.com
SUMMARY:PAC HORIZONS 2026 Frankfurt
DESCRIPTION:2026 is a special year as PAC marks 50 years of enabling future-ready decisions. \nBe part of this milestone at PAC Horizons\, where we explore the trends shaping the future of the European and global IT services market.
URL:https://e3mag.com/de/event/pac-horizons-2026-frankfurt/
LOCATION:memox.world\, Taunusanlage 9-10\, Frankfurt am Main\, 60329\, Germany
ATTACH;FMTTYPE=image/png:https://e3mag.com/wp-content/uploads/2026/03/2026-03-19_PAC_Banner-2026-Frankfurt-50-years.png
ORGANIZER;CN="PAC GmbH":MAILTO:https://www.pacanalyst.com
END:VEVENT
BEGIN:VEVENT
DTSTART;TZID=Europe/Berlin:20261001T100000
DTEND;TZID=Europe/Berlin:20261002T170000
DTSTAMP:20260423T053624
CREATED:20251216T104633Z
LAST-MODIFIED:20251216T105416Z
UID:159208-1790848800-1790960400@e3mag.com
SUMMARY:GITEX AI VIETNAM
DESCRIPTION:GITEX AI VIETNAM will take place from October 1-2\, 2026\, in Hanoi\, Vietnam. \nThe inaugural Vietnamese edition of GITX GLOBAL\, the largest tech show in the world\, GITEX AI VIETNAM\, will be organized in partnership with the National Innovation Center (NIC) and supported by the Tony Blair Institute for Global Change. \nVietnam is the next tech powerhouse! \n*11\,000+ startups\n*US$18B Semiconductor Market\n*5th globally in computer exports\n*2nd globally in smartphone exports\n*70% Under 35 Digital Native Population\n*33.41% of national employment in manufacturing and construction\n*AI\, data centers\, cybersecurity focus areas in national strategy \nWe look forward to welcoming you to the debut edition on October 1-2\, 2026\, in Hanoi\, Vietnam! \nGet involved today: \n📌Book your space with an early bird price: https://bit.ly/4iWU2gg\n📤 Book A Pod: https://bit.ly/3XYCTt8
URL:https://e3mag.com/de/event/gitex-ai-vietnam/
LOCATION:GITEX AI VIETNAM\, Hanoi\, Viet Nam
CATEGORIES:Event
ATTACH;FMTTYPE=image/png:https://e3mag.com/wp-content/uploads/2025/12/GV-Banner-1920-x-1080-px.png
END:VEVENT
BEGIN:VEVENT
DTSTART;TZID=Europe/Berlin:20261014T094500
DTEND;TZID=Europe/Berlin:20261014T170000
DTSTAMP:20260423T053624
CREATED:20260319T105457Z
LAST-MODIFIED:20260319T110709Z
UID:161930-1791971100-1791997200@e3mag.com
SUMMARY:PAC HORIZONS 2026 London
DESCRIPTION:2026 is a special year as PAC marks 50 years of enabling future-ready decisions. \nBe part of this milestone at PAC Horizons\, where we explore the trends shaping the future of the European and global IT services market.
URL:https://e3mag.com/de/event/pac-horizons-2026-london/
LOCATION:Fora 34-41\, Folgate Street\, London\, E1 6BX
ATTACH;FMTTYPE=image/png:https://e3mag.com/wp-content/uploads/2026/03/2026-03-19_PAC_Banner-2026-London-50-years-1.png
ORGANIZER;CN="PAC GmbH":MAILTO:https://www.pacanalyst.com
END:VEVENT
BEGIN:VEVENT
DTSTART;TZID=Europe/Berlin:20261021T090000
DTEND;TZID=Europe/Berlin:20261021T170000
DTSTAMP:20260423T053624
CREATED:20260319T110114Z
LAST-MODIFIED:20260319T110745Z
UID:161936-1792573200-1792602000@e3mag.com
SUMMARY:PAC HORIZONS 2026 Munich
DESCRIPTION:2026 is a special year as PAC marks 50 years of enabling future-ready decisions. \nBe part of this milestone at PAC Horizons\, where we explore the trends shaping the future of the European and global IT services market.
URL:https://e3mag.com/de/event/pac-horizons-2026-munich/
LOCATION:Design Offices Highlight Towers\, Mies-van-der-Rohe Straße 6\, München\, 80807\, Germany
ATTACH;FMTTYPE=image/png:https://e3mag.com/wp-content/uploads/2026/03/2026-03-19_PAC_Banner-2026-Munich-50-years.png
ORGANIZER;CN="PAC GmbH":MAILTO:https://www.pacanalyst.com
END:VEVENT
BEGIN:VEVENT
DTSTART;TZID=Europe/Berlin:20261021T110000
DTEND;TZID=Europe/Berlin:20261021T120000
DTSTAMP:20260423T053624
CREATED:20260224T162949Z
LAST-MODIFIED:20260224T162957Z
UID:161061-1792580400-1792584000@e3mag.com
SUMMARY:E3-Roundtable: NextGen ERP - Was kommt nach S/4 Hana?
DESCRIPTION:Detaillierte Informationen werden zeitnah nachgereicht …
URL:https://e3mag.com/de/event/e3-roundtable-nextgen-erp-was-kommt-nach-s-4-hana/
LOCATION:Online mit Livestream auf YouTube und LinkedIn / Aufzeichnung im Nachgang auf YouTube zugänglich
ATTACH;FMTTYPE=image/jpeg:https://e3mag.com/wp-content/uploads/2026/02/Startbildschirm_26_10_21_N_1920x1080.jpg
ORGANIZER;CN="E3-Magazin":MAILTO:office@b4bmedia.net
END:VEVENT
END:VCALENDAR