BEGIN:VCALENDAR
VERSION:2.0
PRODID:-//E3-Magazin - ECPv6.15.17.1//NONSGML v1.0//EN
CALSCALE:GREGORIAN
METHOD:PUBLISH
X-ORIGINAL-URL:https://e3mag.com/de
X-WR-CALDESC:Veranstaltungen für E3-Magazin
REFRESH-INTERVAL;VALUE=DURATION:PT1H
X-Robots-Tag:noindex
X-PUBLISHED-TTL:PT1H
BEGIN:VTIMEZONE
TZID:Europe/Berlin
BEGIN:DAYLIGHT
TZOFFSETFROM:+0100
TZOFFSETTO:+0200
TZNAME:CEST
DTSTART:20250330T010000
END:DAYLIGHT
BEGIN:STANDARD
TZOFFSETFROM:+0200
TZOFFSETTO:+0100
TZNAME:CET
DTSTART:20251026T010000
END:STANDARD
BEGIN:DAYLIGHT
TZOFFSETFROM:+0100
TZOFFSETTO:+0200
TZNAME:CEST
DTSTART:20260329T010000
END:DAYLIGHT
BEGIN:STANDARD
TZOFFSETFROM:+0200
TZOFFSETTO:+0100
TZNAME:CET
DTSTART:20261025T010000
END:STANDARD
BEGIN:DAYLIGHT
TZOFFSETFROM:+0100
TZOFFSETTO:+0200
TZNAME:CEST
DTSTART:20270328T010000
END:DAYLIGHT
BEGIN:STANDARD
TZOFFSETFROM:+0200
TZOFFSETTO:+0100
TZNAME:CET
DTSTART:20271031T010000
END:STANDARD
END:VTIMEZONE
BEGIN:VEVENT
DTSTART;TZID=Europe/Berlin:20260610T080000
DTEND;TZID=Europe/Berlin:20260611T170000
DTSTAMP:20260422T163711
CREATED:20251023T104615Z
LAST-MODIFIED:20251023T104615Z
UID:157137-1781078400-1781197200@e3mag.com
SUMMARY:Competence Center Summit 2026
DESCRIPTION:Zum vierten Mal veranstaltet das E3-Magazin in Salzburg einen Summit für die SAP-Community\, um sich über alle Aspekte der S/4-Hana- und SAP-BTP-Basisarbeit umfassend zu informieren. Mit Ausstellung\, Fachvorträgen und viel Gesprächsbedarf erwarten wir zahlreiche Bestandskunden\, Partner und Experten in Salzburg zu den Themen SAP Customer COE\, BTP\, Lizenzen\, Automatisierung\, KI\, S/4-Conversion und Datentransformation.
URL:https://e3mag.com/de/event/competence-center-summit-2026/
LOCATION:FourSide Hotel Salzburg\, Trademark Collection by Wyndham\, Am Messezentrum 2\, Salzburg\, 5020\, Austria
ATTACH;FMTTYPE=image/jpeg:https://e3mag.com/wp-content/uploads/2025/10/e3_summit_2026_1920x1080.jpg
ORGANIZER;CN="E3-Magazin":MAILTO:office@b4bmedia.net
END:VEVENT
BEGIN:VEVENT
DTSTART;TZID=Europe/Berlin:20260616T084500
DTEND;TZID=Europe/Berlin:20260617T170000
DTSTAMP:20260422T163711
CREATED:20260319T095812Z
LAST-MODIFIED:20260319T095856Z
UID:161917-1781599500-1781715600@e3mag.com
SUMMARY:Public-IT-Security 2026
DESCRIPTION:Heldinnen und Helden im Hintergrund: \nUnter dem Motto „Heldinnen und Helden im Hintergrund“ rückt die PITS 2026 am 16. und 17. Juni 2026 die Menschen in den Fokus\, die für die digitale Sicherheit von Staat und Verwaltung sorgen. Der Public-IT-Security-Kongress im Adlon Berlin bringt Fachleute aus Bund\, Ländern und Kommunen zusammen. \nIT-Sicherheit ist heute eine zentrale Voraussetzung für das Funktionieren moderner Staaten geworden. Die zunehmende Digitalisierung macht zuverlässige Schutzmechanismen unverzichtbar.\nGleichzeitig haben sich die Bedrohungsszenarien verändert. Professionelle Hackergruppen führen komplexe Angriffe auf IT-Systeme durch.\nDie PITS 2026 bringt Expertinnen und Experten aus Verwaltung\, Politik und und Wirtschaft zusammen. Im Mittelpunkt stehen Themen wie Künstliche Intelligenz und Cyber-Angriffe im öffentlichen Sektor. \nWeitere Informationen finden Sie unter: https://www.public-it-security.de/
URL:https://e3mag.com/de/event/public-it-security-2026/
LOCATION:Hotel Adlon Kempinski Berlin\, Unter den Linden 77\, Berlin\, 10117\, Germany
CATEGORIES:Kongress
ATTACH;FMTTYPE=image/jpeg:https://e3mag.com/wp-content/uploads/2026/03/2026-03-16_PITS_Behoerdenspiegel_2026_1920x1080px.jpg
ORGANIZER;CN="Beh%C3%B6rden Spiegel":MAILTO:robin.hellmich@behoerdenspiegel.de
END:VEVENT
BEGIN:VEVENT
DTSTART;TZID=Europe/Berlin:20260616T120000
DTEND;TZID=Europe/Berlin:20260617T170000
DTSTAMP:20260422T163711
CREATED:20260113T132417Z
LAST-MODIFIED:20260113T132417Z
UID:159491-1781611200-1781715600@e3mag.com
SUMMARY:CBA Aachen 2026 – Congress on Business Applications Aachen
DESCRIPTION:Trends\, Tools & Technologien für modulare IT-Systemlandschaften \nDer CBA Aachen 2026 zeigt\, wie integrierte Business-Applications Unternehmen dabei unterstützen\, ihre Auftragsabwicklung effizienter\, flexibler und nachhaltiger zu gestalten. Teilnehmende erhalten praxisnahe Einblicke in aktuelle Technologietrends\, moderne Systemarchitekturen und die erfolgreiche Organisation modularer IT-Landschaften. \nIm Ausstellerforum treffen Expertise und Innovation aufeinander – eine ideale Plattform für intensiven Wissensaustausch\, neue Impulse und zukunftsweisende Lösungen. \nMit ERP\, MES\, APS\, IoT in die Zukunft:\nDigitalisierte Prozesse und die richtigen Systeme für die industrielle Auftragsabwicklung der Zukunft. \nMit Insights von Branchenexpert*innen zu direkt umsetzbarem Wissen:\nVorträge\, Workshops\, Ausstellung und zubuchbarer Praxistag – live in Aachen. \nFür Führungskräfte und Verantwortliche aus Produktion\, IT und Digitalisierung:\nFachtagung\, Ausstellung und Vernetzung. \nHier zur Website
URL:https://e3mag.com/de/event/cba-aachen-2026-congress-on-business-applications-aachen/
LOCATION:FIR-Konferenzzentrum auf dem RWTH Aachen Campus\, Campus-Boulevard 55\, Aachen\,  Nordrhein-Westfalen \, 52074 \, Germany
CATEGORIES:Fachtagung
ATTACH;FMTTYPE=image/jpeg:https://e3mag.com/wp-content/uploads/2026/01/2026-01-13_RWTH-Aachen-GmbH.jpg
ORGANIZER;CN="FIR Aachen GmbH":MAILTO:info@fir-aachen.gmbh
END:VEVENT
BEGIN:VEVENT
DTSTART;TZID=Europe/Berlin:20260618T090000
DTEND;TZID=Europe/Berlin:20260619T180000
DTSTAMP:20260422T163711
CREATED:20260407T131413Z
LAST-MODIFIED:20260407T142425Z
UID:162490-1781773200-1781892000@e3mag.com
SUMMARY:30 Jahre EAM – Das Jubiläum
DESCRIPTION:Unter dem Titel „Kollaborative Instandhaltung für eine intelligente Anlagenverwaltung“  feiert vom 18.- 19.6. in Berlin die EAM SAP ihr 30-jähriges Jubiläum. \nNeue Ideen und Impulse sind in herausfordernden Zeiten gefragter denn je und die EAM beweist\, dass sie nach wie vor am Puls der Zeit ist.
URL:https://e3mag.com/de/event/30-jahre-eam-das-jubilaeum/
LOCATION:H4 Hotel Berlin Alexanderplatz\, Karl-Liebknecht-Str. 32\, Berlin\, Berlin\, 10178\, Germany
CATEGORIES:Event
ATTACH;FMTTYPE=image/jpeg:https://e3mag.com/wp-content/uploads/2026/04/2026_04_07_TAC_EAM_2026_Banner_1920x1080px.jpg
ORGANIZER;CN="TAC Insights GmbH":MAILTO:info@tac-insights.com
END:VEVENT
END:VCALENDAR