BEGIN:VCALENDAR
VERSION:2.0
PRODID:-//E3-Magazin - ECPv6.15.17.1//NONSGML v1.0//EN
CALSCALE:GREGORIAN
METHOD:PUBLISH
X-WR-CALNAME:E3-Magazin
X-ORIGINAL-URL:https://e3mag.com/de
X-WR-CALDESC:Veranstaltungen für E3-Magazin
REFRESH-INTERVAL;VALUE=DURATION:PT1H
X-Robots-Tag:noindex
X-PUBLISHED-TTL:PT1H
BEGIN:VTIMEZONE
TZID:Europe/Berlin
BEGIN:DAYLIGHT
TZOFFSETFROM:+0100
TZOFFSETTO:+0200
TZNAME:CEST
DTSTART:20250330T010000
END:DAYLIGHT
BEGIN:STANDARD
TZOFFSETFROM:+0200
TZOFFSETTO:+0100
TZNAME:CET
DTSTART:20251026T010000
END:STANDARD
BEGIN:DAYLIGHT
TZOFFSETFROM:+0100
TZOFFSETTO:+0200
TZNAME:CEST
DTSTART:20260329T010000
END:DAYLIGHT
BEGIN:STANDARD
TZOFFSETFROM:+0200
TZOFFSETTO:+0100
TZNAME:CET
DTSTART:20261025T010000
END:STANDARD
BEGIN:DAYLIGHT
TZOFFSETFROM:+0100
TZOFFSETTO:+0200
TZNAME:CEST
DTSTART:20270328T010000
END:DAYLIGHT
BEGIN:STANDARD
TZOFFSETFROM:+0200
TZOFFSETTO:+0100
TZNAME:CET
DTSTART:20271031T010000
END:STANDARD
END:VTIMEZONE
BEGIN:VEVENT
DTSTART;TZID=Europe/Berlin:20260304T110000
DTEND;TZID=Europe/Berlin:20260304T120000
DTSTAMP:20260422T215418
CREATED:20251023T110056Z
LAST-MODIFIED:20260224T161057Z
UID:157150-1772622000-1772625600@e3mag.com
SUMMARY:E3-Roundtable: CCoE
DESCRIPTION:Auch wenn sich das ERP-Betriebsmodell wandelt und die Präferenz der SAP-Bestandskunden noch nicht festgelegt ist: Von On-prem über Hybrid zur Private und Public Cloud oder auch eine souveräne Cloud. In allen Fällen braucht der SAP-Bestandskunde eine etablierte Basismannschaft für S/4 Hana und die neue SAP Business Suite. Die Herausforderungen\, Aufgaben und Pflichten werden traditionell im CCoE\, Customer Center of Expertise\, gebündelt und administriert. \nAufzeichnung im Nachgang auf YouTube zugänglich: https://www.youtube.com/@e3magazin
URL:https://e3mag.com/de/event/e3-roundtable-ccoe/
LOCATION:Online mit Livestream auf YouTube und LinkedIn / Aufzeichnung im Nachgang auf YouTube zugänglich
CATEGORIES:Round Table
ATTACH;FMTTYPE=image/jpeg:https://e3mag.com/wp-content/uploads/2025/10/Startbildschirm_26_03_04_1920x1080.jpg
ORGANIZER;CN="E3-Magazin":MAILTO:office@b4bmedia.net
END:VEVENT
BEGIN:VEVENT
DTSTART;TZID=Europe/Berlin:20260317T080000
DTEND;TZID=Europe/Berlin:20260318T163000
DTSTAMP:20260422T215418
CREATED:20260115T123222Z
LAST-MODIFIED:20260115T123222Z
UID:159546-1773734400-1773851400@e3mag.com
SUMMARY:DSAG-Technologietage 2026
DESCRIPTION:DSAG-Technologietage & DSAG-TechXchange 2026 \nDie DSAG-Technologietage 2026 finden vom 17. bis 18. März 2026 in Hamburg statt und stehen unter dem Motto „Lights on Layers. Clarity-by-Design?“. Im Fokus stehen der Umgang mit zunehmender IT-Komplexität\, Cloud-Transformation sowie zentrale Themen wie Künstliche Intelligenz\, Datenstrategien\, IT-Sicherheit\, Governance und Resilienz. Ergänzt werden die Technologietage durch die DSAG-TechXchange am 19. März 2026 mit praxisnahen Hands-on-Formaten rund um SAP-Technologien.\nhttp://www.dsag.de/techtage und http://www.dsag.de/techxchange \nFür DSAG-Mitglieder:\nAlle Veranstaltungstage: 790\,- € pro Person\nEinzelner Veranstaltungstag: 590\,- € pro Person\nFür Nicht- und Probemitglieder:\nAlle Veranstaltungstage: 990\,- € pro Person\nEinzelner Veranstaltungstag: 790\,- € pro Person\nFür Studierende: Alle Veranstaltungstage: 100\,- €* pro Person
URL:https://e3mag.com/de/event/dsag-technologietage-2026/
LOCATION:Congress Center Hamburg\, Congresspl. 1\, Hamburg\, Hamburg\, 20355\, Germany
CATEGORIES:Fachtagung
ATTACH;FMTTYPE=image/jpeg:https://e3mag.com/wp-content/uploads/2026/01/2026-01-15_DSAG.jpg
ORGANIZER;CN="DSAG Dienstleistungs GmbH":MAILTO:Sandra.Hofmann@dsag.de
END:VEVENT
BEGIN:VEVENT
DTSTART;TZID=Europe/Berlin:20260318T090000
DTEND;TZID=Europe/Berlin:20260318T170000
DTSTAMP:20260422T215418
CREATED:20260113T120715Z
LAST-MODIFIED:20260113T120715Z
UID:159480-1773824400-1773853200@e3mag.com
SUMMARY:29. AACHENER DIENSTLEISTUNGSFORUM
DESCRIPTION:Das Aachener Dienstleistungsforum ist Deutschlands größte Innovationsveranstaltung zum Service der Zukunft. Die Veranstaltung liefert praxisnahe Antworten darauf\, wie Unternehmen ihre Serviceangebote und Wertschöpfung neu denken können – weg von rein reaktiven Dienstleistungen hin zu vorausschauenden\, selbstoptimierenden Lösungen. \nFührungskräfte und Expert*innen aus Unternehmen unterschiedlichster Branchen profitieren von inspirierenden Vorträgen und lebendigen Diskussionen mit hochkarätigen Referierenden aus Industrie und Wissenschaft. Darüber hinaus fördert die Veranstaltung einen inspirierenden Erfahrungsaustausch zwischen den fachkundigen Teilnehmer*innen über die neuesten Trends und Technologien in der Dienstleistungsbranche. \n2026 nehmen wir Sie mit auf eine spannende Reise durch die Transformation des Servicegeschäfts von klassisch reaktiven Strukturen hin zu intelligenten\, vernetzten autonomen Systemen. \nHier zur Website
URL:https://e3mag.com/de/event/29-aachener-dienstleistungsforum/
LOCATION:digital vom RWTH Aachen Campus
ATTACH;FMTTYPE=image/jpeg:https://e3mag.com/wp-content/uploads/2026/01/2026-01-13_RWTH-Aachen.jpg
ORGANIZER;CN="FIR an der RWTH Aachen und Service Performance Center":MAILTO:dienstleistungsforum@fir.rwth-aachen.de
END:VEVENT
BEGIN:VEVENT
DTSTART;TZID=Europe/Berlin:20260319T090000
DTEND;TZID=Europe/Berlin:20260319T120000
DTSTAMP:20260422T215418
CREATED:20260210T082941Z
LAST-MODIFIED:20260210T082949Z
UID:160462-1773910800-1773921600@e3mag.com
SUMMARY:Thought Leadership in der IT
DESCRIPTION:Praxisnahe Impulse für IT-Entscheider: Keynote zu AI-Governance\, SAP-Leadership\, Cloud-Souveränität\, Exit-Strategien & KI-Praxis. Lernen Sie Strategien\, Denkmodelle und konkrete Perspektiven für zukunftsorientierte IT-Führung kennen.
URL:https://e3mag.com/de/event/thought-leadership-in-der-it-2/
LOCATION:Online
CATEGORIES:Event
ATTACH;FMTTYPE=image/jpeg:https://e3mag.com/wp-content/uploads/2026/02/TL-it-daily_1920x1080px.jpg
ORGANIZER;CN="IT Verlag f%C3%BCr Informationstechnik GmbH":MAILTO:redaktion@it-verlag.de
END:VEVENT
BEGIN:VEVENT
DTSTART;TZID=Europe/Berlin:20260326T110000
DTEND;TZID=Europe/Berlin:20260326T120000
DTSTAMP:20260422T215418
CREATED:20251023T110503Z
LAST-MODIFIED:20260319T101856Z
UID:157153-1774522800-1774526400@e3mag.com
SUMMARY:E3-Roundtable: Generic ERP platforms (English)
DESCRIPTION:While existing SAP customers are forced into an expensive straitjacket with the Business Technology Platform (BTP) and Business Data Cloud (BDC)\, which cement vendor lock-in\, independent iPaaS solutions such as Boomi or hyperscalers demonstrate true agility. They orchestrate hybrid data streams as composable ERP without rigid ABAP constraints. Anyone seeking true digital sovereignty must critically question the golden SAP cage. \nThe era of the monolithic SAP ERP system\, where the software giant from Walldorf held absolute sovereignty over business processes and data within the customer’s own data center\, is irrevocably coming to an end. For decades\, SAP existing customers have obediently followed the vendor’s roadmap\, but the current push towards cloud-only deployment and the rigid Clean Core dogma forces a critical reassessment of our enterprise architecture. While SAP aggressively positions its Business Technology Platform (BTP) and the newly announced Business Data Cloud (BDC) as the ultimate panaceas for integration and artificial intelligence\, a closer investigative look reveals a highly complex\, fragmented\, and commercially opaque ecosystem fraught with severe vendor lock-in risks. Customers are being coerced into transforming their historically grown\, competitively differentiating ABAP modifications into cloud-native extensions via Steampunk\, CAP\, or RAP on the BTP\, paying for consumption-based metrics that often explode unpredictably in productive operations. In response to this looming dependency\, an alternative paradigm is gaining massive traction within the critical SAP community: the Composable ERP based on generic and independent IT platforms. \n  \n 
URL:https://e3mag.com/de/event/e3-generic-erp-platforms/
LOCATION:Online mit Livestream auf YouTube und LinkedIn / Aufzeichnung im Nachgang auf YouTube zugänglich
CATEGORIES:Round Table
ATTACH;FMTTYPE=image/jpeg:https://e3mag.com/wp-content/uploads/2025/10/Startbildschirm_26_03_26_N_1920x1080.jpg
ORGANIZER;CN="E3-Magazin":MAILTO:office@b4bmedia.net
END:VEVENT
END:VCALENDAR